BEGIN:VCALENDAR
VERSION:2.0
PRODID:-//Tukios.com/
BEGIN:VEVENT
UID:84a9e21e-b631-4998-86eb-783add35916a@www.themillerfuneralhome.com
DTSTAMP:20260420T012921Z
DTSTART:20260422T150000Z
DTEND:20260422T170000Z
SUMMARY:Calling Hours
DESCRIPTION:
URL:https://www.themillerfuneralhome.com/obituaries/phyllis-rice
LOCATION:Miller Funeral Home 639 Main Street  Coshocton OH 43812
GEO:40.2730373;-81.8603288
END:VEVENT
END:VCALENDAR