BEGIN:VCALENDAR
VERSION:2.0
PRODID:-//Tukios.com/
BEGIN:VEVENT
UID:78c3bc5f-3110-4a1a-8de6-1a3ba65fc7f3@www.themillerfuneralhome.com
DTSTAMP:20260420T012943Z
DTSTART:20260422T170000Z
DTEND:20260422T180000Z
SUMMARY:Funeral Service
DESCRIPTION:
URL:https://www.themillerfuneralhome.com/obituaries/phyllis-rice
LOCATION:Miller Funeral Home 639 Main Street  Coshocton OH 43812
GEO:40.2730373;-81.8603288
END:VEVENT
END:VCALENDAR