BEGIN:VCALENDAR
VERSION:2.0
PRODID:-//Tukios.com/
BEGIN:VEVENT
UID:7fb38e45-9f68-4b77-995d-4884164c8de8@www.themillerfuneralhome.com
DTSTAMP:20260425T022544Z
DTSTART:20260428T150000Z
DTEND:20260428T160000Z
SUMMARY:Calling Hours
DESCRIPTION:
URL:https://www.themillerfuneralhome.com/obituaries/john-dusenberry
LOCATION:Miller Funeral Home 639 Main Street  Coshocton OH 43812
GEO:40.2730373;-81.8603288
END:VEVENT
END:VCALENDAR