BEGIN:VCALENDAR
VERSION:2.0
PRODID:-//Tukios.com/
BEGIN:VEVENT
UID:8f971227-9b64-4359-955d-407afa8504ce@www.themillerfuneralhome.com
DTSTAMP:20260419T172341Z
DTSTART:20260423T210000Z
DTEND:20260423T230000Z
SUMMARY:Calling Hours
DESCRIPTION:
URL:https://www.themillerfuneralhome.com/obituaries/cathy-kobel
LOCATION:Miller Funeral Home 639 Main Street  Coshocton OH 43812
GEO:40.2730373;-81.8603288
END:VEVENT
END:VCALENDAR