BEGIN:VCALENDAR
VERSION:2.0
PRODID:-//Tukios.com/
BEGIN:VEVENT
UID:9ad26a2e-78bb-4f00-a105-2a5d98923cae@www.themillerfuneralhome.com
DTSTAMP:20260419T172406Z
DTSTART:20260424T140000Z
DTEND:20260424T150000Z
SUMMARY:Calling Hours
DESCRIPTION:
URL:https://www.themillerfuneralhome.com/obituaries/cathy-kobel
LOCATION:Miller Funeral Home 639 Main Street  Coshocton OH 43812
GEO:40.2730373;-81.8603288
END:VEVENT
END:VCALENDAR