BEGIN:VCALENDAR
VERSION:2.0
PRODID:-//Tukios.com/
BEGIN:VEVENT
UID:27e881b2-48f9-4f6f-b72a-9af6aa6dfb10@www.themillerfuneralhome.com
DTSTAMP:20260419T172529Z
DTSTART:20260424T150000Z
DTEND:20260424T160000Z
SUMMARY:Funeral Service
DESCRIPTION:
URL:https://www.themillerfuneralhome.com/obituaries/cathy-kobel
LOCATION:Miller Funeral Home 639 Main Street  Coshocton OH 43812
GEO:40.2730373;-81.8603288
END:VEVENT
END:VCALENDAR